BEGIN:VCALENDAR
VERSION:2.0
PRODID:-//Yoshukai Karate Alliance - ECPv6.13.2.1//NONSGML v1.0//EN
CALSCALE:GREGORIAN
METHOD:PUBLISH
X-ORIGINAL-URL:http://yoshukaialliance.com
X-WR-CALDESC:Events for Yoshukai Karate Alliance
REFRESH-INTERVAL;VALUE=DURATION:PT1H
X-Robots-Tag:noindex
X-PUBLISHED-TTL:PT1H
BEGIN:VTIMEZONE
TZID:America/Chicago
BEGIN:DAYLIGHT
TZOFFSETFROM:-0600
TZOFFSETTO:-0500
TZNAME:CDT
DTSTART:20250309T080000
END:DAYLIGHT
BEGIN:STANDARD
TZOFFSETFROM:-0500
TZOFFSETTO:-0600
TZNAME:CST
DTSTART:20251102T070000
END:STANDARD
END:VTIMEZONE
BEGIN:VEVENT
DTSTART;TZID=America/Chicago:20250605T180000
DTEND;TZID=America/Chicago:20250605T193000
DTSTAMP:20260423T225926
CREATED:20250119T014258Z
LAST-MODIFIED:20250119T014258Z
UID:1501-1749146400-1749151800@yoshukaialliance.com
SUMMARY:Board Breaking for all alliance students.
DESCRIPTION:Bring 12x12x1 boards to break\, need all hands to help hold boards
URL:http://yoshukaialliance.com/event/board-breaking-for-all-alliance-students-34/
LOCATION:Clinton Dojo\, 600 West Side Square\, Clinton\, IL\, 61727\, United States
CATEGORIES:All Ranks,Clinton Members,Lincoln Members
END:VEVENT
BEGIN:VEVENT
DTSTART;TZID=America/Chicago:20250620T180000
DTEND;TZID=America/Chicago:20250620T200000
DTSTAMP:20260423T225926
CREATED:20250119T014259Z
LAST-MODIFIED:20250119T014259Z
UID:1502-1750442400-1750449600@yoshukaialliance.com
SUMMARY:Black Belt Testing
DESCRIPTION:Black Belt Testing – Event is for invited guests of those testing and Black Belts only
URL:http://yoshukaialliance.com/event/black-belt-testing-8/
LOCATION:Hombu\, 1500 N. McLean Suite A\, Lincoln\, IL\, 62656\, United States
CATEGORIES:Black Belts,Clinton Members,Lincoln Members
END:VEVENT
BEGIN:VEVENT
DTSTART;TZID=America/Chicago:20250621T111500
DTEND;TZID=America/Chicago:20250621T120000
DTSTAMP:20260423T225926
CREATED:20250106T004042Z
LAST-MODIFIED:20250205T194248Z
UID:1479-1750504500-1750507200@yoshukaialliance.com
SUMMARY:Natsu Keiko XXIII  - Set up before training
DESCRIPTION:Everyone to help set up area before training
URL:http://yoshukaialliance.com/event/natsu-keiko-xxi-set-up-before-training/
LOCATION:Kickapoo Creek Park\, 2000 N. Jefferson St.\, Lincoln\, IL\, 62656\, United States
CATEGORIES:All Ranks,Clinton Members,Lincoln Members
END:VEVENT
BEGIN:VEVENT
DTSTART;TZID=America/Chicago:20250621T120000
DTEND;TZID=America/Chicago:20250621T160000
DTSTAMP:20260423T225926
CREATED:20250106T004043Z
LAST-MODIFIED:20250205T194235Z
UID:1480-1750507200-1750521600@yoshukaialliance.com
SUMMARY:Natsu Keiko XXIII
DESCRIPTION:Summer camp will be held in the Boy Scout Area of Kickapoo Creek Park in Lincoln IL. and is open to all Yoshukai Karate Alliance members and invited guests. A cook-out will be held immediately following the training. Usual checklist to bring: \nSunblock\nInsect repellent\nHat\nSunglasses\nLots of water balloons (Filled with water) these need to be kept in a cooler with water so they don’t pop before needed.\nAll weapons\nHand towel\nWater or Gatorade for water breaks (VERY IMPORTANT) – Also start drinking extra water Thursday and Friday prior to camp to get your body hydrated.\nApples (Green & Brown Belts; 2 bags of small apples)\nExtra Gi if you have one\nPassport (greenbelts and above)\nMoney for raffle chances\nFor the Cookout:\nDish to pass\nDrink to go with your meal
URL:http://yoshukaialliance.com/event/natsu-keiko-xxi/
LOCATION:Kickapoo Creek Park\, 2000 N. Jefferson St.\, Lincoln\, IL\, 62656\, United States
CATEGORIES:All Ranks,Clinton Members,Lincoln Members
END:VEVENT
BEGIN:VEVENT
DTSTART;TZID=America/Chicago:20250621T160000
DTEND;TZID=America/Chicago:20250621T163000
DTSTAMP:20260423T225926
CREATED:20250106T004044Z
LAST-MODIFIED:20250205T194226Z
UID:1481-1750521600-1750523400@yoshukaialliance.com
SUMMARY:Natsu Keiko XXIII  - Cleanup after training
DESCRIPTION:Everyone to help clean up camp practice area before eating
URL:http://yoshukaialliance.com/event/natsu-keiko-xxi-cleanup-after-training/
LOCATION:Kickapoo Creek Park\, 2000 N. Jefferson St.\, Lincoln\, IL\, 62656\, United States
CATEGORIES:All Ranks,Clinton Members,Lincoln Members
END:VEVENT
BEGIN:VEVENT
DTSTART;TZID=America/Chicago:20250621T163000
DTEND;TZID=America/Chicago:20250621T180000
DTSTAMP:20260423T225926
CREATED:20250106T004045Z
LAST-MODIFIED:20250205T194220Z
UID:1482-1750523400-1750528800@yoshukaialliance.com
SUMMARY:Natsu Keiko XXIII - Cookout following training
DESCRIPTION:Each family bring a dish to pass and your own drinks
URL:http://yoshukaialliance.com/event/natsu-keiko-xxi-cookout-following-training/
LOCATION:Kickapoo Creek Park\, 2000 N. Jefferson St.\, Lincoln\, IL\, 62656\, United States
CATEGORIES:All Ranks,Clinton Members,Lincoln Members
END:VEVENT
END:VCALENDAR