BEGIN:VCALENDAR
VERSION:2.0
PRODID:-//Yoshukai Karate Alliance - ECPv6.13.2.1//NONSGML v1.0//EN
CALSCALE:GREGORIAN
METHOD:PUBLISH
X-WR-CALNAME:Yoshukai Karate Alliance
X-ORIGINAL-URL:http://yoshukaialliance.com
X-WR-CALDESC:Events for Yoshukai Karate Alliance
REFRESH-INTERVAL;VALUE=DURATION:PT1H
X-Robots-Tag:noindex
X-PUBLISHED-TTL:PT1H
BEGIN:VTIMEZONE
TZID:America/Chicago
BEGIN:DAYLIGHT
TZOFFSETFROM:-0600
TZOFFSETTO:-0500
TZNAME:CDT
DTSTART:20240310T080000
END:DAYLIGHT
BEGIN:STANDARD
TZOFFSETFROM:-0500
TZOFFSETTO:-0600
TZNAME:CST
DTSTART:20241103T070000
END:STANDARD
END:VTIMEZONE
BEGIN:VEVENT
DTSTART;TZID=America/Chicago:20240412T180000
DTEND;TZID=America/Chicago:20240412T200000
DTSTAMP:20260424T173411
CREATED:20240126T172152Z
LAST-MODIFIED:20240126T172152Z
UID:1369-1712944800-1712952000@yoshukaialliance.com
SUMMARY:Green Belt Clinic
DESCRIPTION:Clinic for Green Belts
URL:http://yoshukaialliance.com/event/green-belt-clinic/
LOCATION:Hombu\, 1500 N. McLean Suite A\, Lincoln\, IL\, 62656\, United States
CATEGORIES:Black Belts,Clinton Members,Green Belts,Lincoln Members
END:VEVENT
BEGIN:VEVENT
DTSTART;TZID=America/Chicago:20240404T180000
DTEND;TZID=America/Chicago:20240404T193000
DTSTAMP:20260424T173411
CREATED:20240126T172151Z
LAST-MODIFIED:20240126T172151Z
UID:1367-1712253600-1712259000@yoshukaialliance.com
SUMMARY:Board Breaking for all alliance students.
DESCRIPTION:Bring 12x12x1 boards to break\, need all hands to help hold boards
URL:http://yoshukaialliance.com/event/board-breaking-for-all-alliance-students-27/
LOCATION:Clinton Dojo\, 600 West Side Square\, Clinton\, IL\, 61727\, United States
CATEGORIES:All Ranks,Clinton Members,Lincoln Members
END:VEVENT
BEGIN:VEVENT
DTSTART;TZID=America/Chicago:20240314T180000
DTEND;TZID=America/Chicago:20240314T200000
DTSTAMP:20260424T173411
CREATED:20240126T172151Z
LAST-MODIFIED:20240126T172151Z
UID:1366-1710439200-1710446400@yoshukaialliance.com
SUMMARY:Hombu Kyu Belt Testing.
DESCRIPTION:Testing – your Sensei will let you know if you are testing.
URL:http://yoshukaialliance.com/event/hombu-kyu-belt-testing-20/
LOCATION:Hombu\, 1500 N. McLean Suite A\, Lincoln\, IL\, 62656\, United States
CATEGORIES:All Ranks,Lincoln Members
END:VEVENT
BEGIN:VEVENT
DTSTART;TZID=America/Chicago:20240312T180000
DTEND;TZID=America/Chicago:20240312T200000
DTSTAMP:20260424T173411
CREATED:20240126T172151Z
LAST-MODIFIED:20240126T172151Z
UID:1365-1710266400-1710273600@yoshukaialliance.com
SUMMARY:Hombu Kyu Belt Testing.
DESCRIPTION:Testing – your Sensei will let you know if you are testing.
URL:http://yoshukaialliance.com/event/hombu-kyu-belt-testing-19/
LOCATION:Hombu\, 1500 N. McLean Suite A\, Lincoln\, IL\, 62656\, United States
CATEGORIES:All Ranks,Lincoln Members
END:VEVENT
BEGIN:VEVENT
DTSTART;TZID=America/Chicago:20240304T180000
DTEND;TZID=America/Chicago:20240304T200000
DTSTAMP:20260424T173411
CREATED:20240126T172134Z
LAST-MODIFIED:20240126T172134Z
UID:1364-1709575200-1709582400@yoshukaialliance.com
SUMMARY:Clinton Kyu Belt Testing
DESCRIPTION:Testing – your Sensei will let you know if you are testing.
URL:http://yoshukaialliance.com/event/clinton-kyu-belt-testing-14/
LOCATION:Clinton Dojo\, 600 West Side Square\, Clinton\, IL\, 61727\, United States
CATEGORIES:All Ranks,Clinton Members
END:VEVENT
BEGIN:VEVENT
DTSTART;TZID=America/Chicago:20240223T180000
DTEND;TZID=America/Chicago:20240223T200000
DTSTAMP:20260424T173411
CREATED:20240126T172134Z
LAST-MODIFIED:20240126T172134Z
UID:1363-1708711200-1708718400@yoshukaialliance.com
SUMMARY:Black Belt Clinic
DESCRIPTION:Clinic for Black Belts
URL:http://yoshukaialliance.com/event/black-belt-clinic-28/
LOCATION:Hombu\, 1500 N. McLean Suite A\, Lincoln\, IL\, 62656\, United States
CATEGORIES:Black Belts,Clinton Members,Lincoln Members
END:VEVENT
BEGIN:VEVENT
DTSTART;TZID=America/Chicago:20240215T180000
DTEND;TZID=America/Chicago:20240215T193000
DTSTAMP:20260424T173411
CREATED:20240126T172134Z
LAST-MODIFIED:20240126T172134Z
UID:1362-1708020000-1708025400@yoshukaialliance.com
SUMMARY:Street Clothes Night
DESCRIPTION:Self defense in old clothes that might get torn and soft sole shoes. This is for Clinton and Lincoln students.
URL:http://yoshukaialliance.com/event/street-clothes-night/
LOCATION:Hombu\, 1500 N. McLean Suite A\, Lincoln\, IL\, 62656\, United States
CATEGORIES:All Ranks,Clinton Members,Lincoln Members
END:VEVENT
BEGIN:VEVENT
DTSTART;TZID=America/Chicago:20240209T180000
DTEND;TZID=America/Chicago:20240209T200000
DTSTAMP:20260424T173411
CREATED:20240126T172134Z
LAST-MODIFIED:20240126T172134Z
UID:1361-1707501600-1707508800@yoshukaialliance.com
SUMMARY:Brown Belt Clinic
DESCRIPTION:Clinic for Brown Belts
URL:http://yoshukaialliance.com/event/brown-belt-clinic-2/
LOCATION:Hombu\, 1500 N. McLean Suite A\, Lincoln\, IL\, 62656\, United States
CATEGORIES:Black Belts,Brown Belts,Clinton Members,Lincoln Members
END:VEVENT
BEGIN:VEVENT
DTSTART;TZID=America/Chicago:20240201T180000
DTEND;TZID=America/Chicago:20240201T193000
DTSTAMP:20260424T173411
CREATED:20240126T172134Z
LAST-MODIFIED:20240126T172134Z
UID:1360-1706810400-1706815800@yoshukaialliance.com
SUMMARY:Board Breaking for all alliance students
DESCRIPTION:Bring 12x12x1 boards to break\, need all hands to help hold boards
URL:http://yoshukaialliance.com/event/board-breaking-for-all-alliance-students-26/
LOCATION:Hombu\, 1500 N. McLean Suite A\, Lincoln\, IL\, 62656\, United States
CATEGORIES:All Ranks,Clinton Members,Lincoln Members
END:VEVENT
BEGIN:VEVENT
DTSTART;TZID=America/Chicago:20240127T100000
DTEND;TZID=America/Chicago:20240127T113000
DTSTAMP:20260424T173411
CREATED:20221231T031137Z
LAST-MODIFIED:20230114T040742Z
UID:1287-1706349600-1706355000@yoshukaialliance.com
SUMMARY:Black Belt Clinic
DESCRIPTION:Clinic for Black Belts
URL:http://yoshukaialliance.com/event/black-belt-clinic-27/
LOCATION:Hombu\, 1500 N. McLean Suite A\, Lincoln\, IL\, 62656\, United States
CATEGORIES:Black Belts,Clinton Members,Lincoln Members
END:VEVENT
BEGIN:VEVENT
DTSTART;TZID=America/Chicago:20240112T180000
DTEND;TZID=America/Chicago:20240112T193000
DTSTAMP:20260424T173411
CREATED:20221231T025109Z
LAST-MODIFIED:20221231T030428Z
UID:1279-1705082400-1705087800@yoshukaialliance.com
SUMMARY:Black Belt Clinic
DESCRIPTION:Clinic for Black Belts
URL:http://yoshukaialliance.com/event/black-belt-clinic-26/
LOCATION:Hombu\, 1500 N. McLean Suite A\, Lincoln\, IL\, 62656\, United States
CATEGORIES:Black Belts,Clinton Members,Lincoln Members
END:VEVENT
BEGIN:VEVENT
DTSTART;VALUE=DATE:20240104
DTEND;VALUE=DATE:20240105
DTSTAMP:20260424T173411
CREATED:20221231T025109Z
LAST-MODIFIED:20221231T025109Z
UID:1278-1704326400-1704412799@yoshukaialliance.com
SUMMARY:Hombu classes resume
DESCRIPTION:Regular Class Time
URL:http://yoshukaialliance.com/event/hombu-classes-resume-6/
LOCATION:Hombu\, 1500 N. McLean Suite A\, Lincoln\, IL\, 62656\, United States
CATEGORIES:All Ranks,Lincoln Members
END:VEVENT
BEGIN:VEVENT
DTSTART;VALUE=DATE:20240104
DTEND;VALUE=DATE:20240105
DTSTAMP:20260424T173411
CREATED:20221231T025053Z
LAST-MODIFIED:20221231T025053Z
UID:1277-1704326400-1704412799@yoshukaialliance.com
SUMMARY:Clinton classes resume
DESCRIPTION:Regular Class Time
URL:http://yoshukaialliance.com/event/clinton-classes-resume-6/
LOCATION:Clinton Dojo\, 600 West Side Square\, Clinton\, IL\, 61727\, United States
CATEGORIES:All Ranks,Clinton Members
END:VEVENT
END:VCALENDAR