BEGIN:VCALENDAR
VERSION:2.0
PRODID:-//Yoshukai Karate Alliance - ECPv6.13.2.1//NONSGML v1.0//EN
CALSCALE:GREGORIAN
METHOD:PUBLISH
X-WR-CALNAME:Yoshukai Karate Alliance
X-ORIGINAL-URL:http://yoshukaialliance.com
X-WR-CALDESC:Events for Yoshukai Karate Alliance
REFRESH-INTERVAL;VALUE=DURATION:PT1H
X-Robots-Tag:noindex
X-PUBLISHED-TTL:PT1H
BEGIN:VTIMEZONE
TZID:America/Chicago
BEGIN:DAYLIGHT
TZOFFSETFROM:-0600
TZOFFSETTO:-0500
TZNAME:CDT
DTSTART:20250309T080000
END:DAYLIGHT
BEGIN:STANDARD
TZOFFSETFROM:-0500
TZOFFSETTO:-0600
TZNAME:CST
DTSTART:20251102T070000
END:STANDARD
BEGIN:DAYLIGHT
TZOFFSETFROM:-0600
TZOFFSETTO:-0500
TZNAME:CDT
DTSTART:20260308T080000
END:DAYLIGHT
BEGIN:STANDARD
TZOFFSETFROM:-0500
TZOFFSETTO:-0600
TZNAME:CST
DTSTART:20261101T070000
END:STANDARD
END:VTIMEZONE
BEGIN:VEVENT
DTSTART;TZID=America/Chicago:20260627T163000
DTEND;TZID=America/Chicago:20260627T180000
DTSTAMP:20260423T161310
CREATED:20260109T030314Z
LAST-MODIFIED:20260109T030314Z
UID:1766-1782577800-1782583200@yoshukaialliance.com
SUMMARY:Natsu Keiko XXIV - Cookout following training
DESCRIPTION:Each family bring a dish to pass and your own drinks
URL:http://yoshukaialliance.com/event/natsu-keiko-xxiv-cookout-following-training/
LOCATION:Kickapoo Creek Park\, 2000 N. Jefferson St.\, Lincoln\, IL\, 62656\, United States
CATEGORIES:All Ranks,Clinton Members,Lincoln Members
END:VEVENT
BEGIN:VEVENT
DTSTART;TZID=America/Chicago:20260627T160100
DTEND;TZID=America/Chicago:20260627T161500
DTSTAMP:20260423T161310
CREATED:20260109T030312Z
LAST-MODIFIED:20260109T030312Z
UID:1765-1782576060-1782576900@yoshukaialliance.com
SUMMARY:Natsu Keiko XXIV - Cleanup after training
DESCRIPTION:Everyone to help clean up camp practice area before eating
URL:http://yoshukaialliance.com/event/natsu-keiko-xxiv-cleanup-after-training/
LOCATION:Kickapoo Creek Park\, 2000 N. Jefferson St.\, Lincoln\, IL\, 62656\, United States
CATEGORIES:All Ranks,Clinton Members,Lincoln Members
END:VEVENT
BEGIN:VEVENT
DTSTART;TZID=America/Chicago:20260627T114500
DTEND;TZID=America/Chicago:20260627T160000
DTSTAMP:20260423T161310
CREATED:20260109T030307Z
LAST-MODIFIED:20260109T030307Z
UID:1764-1782560700-1782576000@yoshukaialliance.com
SUMMARY:Natsu Keiko XXIV
DESCRIPTION:Summer camp will be held in the Boy Scout Area of Kickapoo Creek Park in Lincoln IL. and is open to all Yoshukai Karate Alliance members and invited guests. A cook-out will be held immediately following the training. Usual checklist to bring: \nSunblock\nInsect repellent\nHat\nSunglasses\nLots of water balloons (Filled with water) these need to be kept in a cooler with water so they don’t pop before needed.\nAll weapons\nHand towel\nWater or Gatorade for water breaks (VERY IMPORTANT) – Also start drinking extra water Thursday and Friday prior to camp to get your body hydrated.\nApples (Green & Brown Belts; 2 bags of small apples)\nExtra Gi if you have one\nPassport (greenbelts and above)\nMoney for raffle chances\nFor the Cookout:\nDish to pass\nDrink to go with your meal
URL:http://yoshukaialliance.com/event/natsu-keiko-xxiv/
LOCATION:Kickapoo Creek Park\, 2000 N. Jefferson St.\, Lincoln\, IL\, 62656\, United States
CATEGORIES:All Ranks,Clinton Members,Lincoln Members
END:VEVENT
BEGIN:VEVENT
DTSTART;TZID=America/Chicago:20260627T111500
DTEND;TZID=America/Chicago:20260627T120000
DTSTAMP:20260423T161310
CREATED:20260109T030239Z
LAST-MODIFIED:20260109T030239Z
UID:1763-1782558900-1782561600@yoshukaialliance.com
SUMMARY:Natsu Keiko XXIV - Set up before training
DESCRIPTION:Everyone to help set up area before training
URL:http://yoshukaialliance.com/event/natsu-keiko-xxiv-set-up-before-training/
LOCATION:Kickapoo Creek Park\, 2000 N. Jefferson St.\, Lincoln\, IL\, 62656\, United States
CATEGORIES:All Ranks,Clinton Members,Lincoln Members
END:VEVENT
BEGIN:VEVENT
DTSTART;TZID=America/Chicago:20260626T180000
DTEND;TZID=America/Chicago:20260626T200000
DTSTAMP:20260423T161310
CREATED:20260109T030236Z
LAST-MODIFIED:20260109T030236Z
UID:1762-1782496800-1782504000@yoshukaialliance.com
SUMMARY:Black Belt Testing
DESCRIPTION:Black Belt Testing – Event is for invited guests of those testing and Black Belts only
URL:http://yoshukaialliance.com/event/black-belt-testing-10/
LOCATION:Hombu\, 1500 N. McLean Suite A\, Lincoln\, IL\, 62656\, United States
CATEGORIES:Black Belts,Clinton Members,Lincoln Members
END:VEVENT
BEGIN:VEVENT
DTSTART;TZID=America/Chicago:20260604T180000
DTEND;TZID=America/Chicago:20260604T193000
DTSTAMP:20260423T161311
CREATED:20260109T030234Z
LAST-MODIFIED:20260109T030234Z
UID:1761-1780596000-1780601400@yoshukaialliance.com
SUMMARY:Board Breaking for all alliance students.
DESCRIPTION:Bring 12x12x1 boards to break\, need all hands to help hold boards
URL:http://yoshukaialliance.com/event/board-breaking-for-all-alliance-students-40/
LOCATION:Clinton Dojo\, 600 West Side Square\, Clinton\, IL\, 61727\, United States
CATEGORIES:All Ranks,Clinton Members,Lincoln Members
END:VEVENT
BEGIN:VEVENT
DTSTART;TZID=America/Chicago:20260515T180000
DTEND;TZID=America/Chicago:20260515T200000
DTSTAMP:20260423T161311
CREATED:20260109T030232Z
LAST-MODIFIED:20260109T030232Z
UID:1760-1778868000-1778875200@yoshukaialliance.com
SUMMARY:Brown Belt Clinic
DESCRIPTION:Clinic for Brown Belts – If rain meet at Hombu instead of the park.
URL:http://yoshukaialliance.com/event/brown-belt-clinic-6/
LOCATION:Clinton Dojo\, 600 West Side Square\, Clinton\, IL\, 61727\, United States
CATEGORIES:Black Belts,Clinton Members,Lincoln Members
END:VEVENT
BEGIN:VEVENT
DTSTART;TZID=America/Chicago:20260423T180000
DTEND;TZID=America/Chicago:20260423T193000
DTSTAMP:20260423T161311
CREATED:20260109T030219Z
LAST-MODIFIED:20260109T030229Z
UID:1758-1776967200-1776972600@yoshukaialliance.com
SUMMARY:Street Clothes Night
DESCRIPTION:Self defense in old clothes that might get torn and soft sole shoes.
URL:http://yoshukaialliance.com/event/street-clothes-night-3/
LOCATION:Clinton Dojo\, 600 West Side Square\, Clinton\, IL\, 61727\, United States
CATEGORIES:All Ranks,Clinton Members,Lincoln Members
END:VEVENT
BEGIN:VEVENT
DTSTART;TZID=America/Chicago:20260417T180000
DTEND;TZID=America/Chicago:20260417T200000
DTSTAMP:20260423T161311
CREATED:20260109T030217Z
LAST-MODIFIED:20260109T030217Z
UID:1757-1776448800-1776456000@yoshukaialliance.com
SUMMARY:Green Belt Clinic
DESCRIPTION:Clinic for Green Belts
URL:http://yoshukaialliance.com/event/green-belt-clinic-4/
LOCATION:Hombu\, 1500 N. McLean Suite A\, Lincoln\, IL\, 62656\, United States
CATEGORIES:Black Belts,Clinton Members,Green Belts,Lincoln Members
END:VEVENT
BEGIN:VEVENT
DTSTART;TZID=America/Chicago:20260402T180000
DTEND;TZID=America/Chicago:20260402T193000
DTSTAMP:20260423T161311
CREATED:20260109T030214Z
LAST-MODIFIED:20260109T030214Z
UID:1756-1775152800-1775158200@yoshukaialliance.com
SUMMARY:Board Breaking for all alliance students.
DESCRIPTION:Bring 12x12x1 boards to break\, need all hands to help hold boards
URL:http://yoshukaialliance.com/event/board-breaking-for-all-alliance-students-39/
LOCATION:Clinton Dojo\, 600 West Side Square\, Clinton\, IL\, 61727\, United States
CATEGORIES:All Ranks,Clinton Members,Lincoln Members
END:VEVENT
BEGIN:VEVENT
DTSTART;TZID=America/Chicago:20260312T180000
DTEND;TZID=America/Chicago:20260312T200000
DTSTAMP:20260423T161311
CREATED:20260109T030212Z
LAST-MODIFIED:20260109T030212Z
UID:1755-1773338400-1773345600@yoshukaialliance.com
SUMMARY:Hombu Kyu Belt Testing.
DESCRIPTION:Testing – your Sensei will let you know if you are testing.
URL:http://yoshukaialliance.com/event/hombu-kyu-belt-testing-32/
LOCATION:Hombu\, 1500 N. McLean Suite A\, Lincoln\, IL\, 62656\, United States
CATEGORIES:All Ranks,Lincoln Members
END:VEVENT
BEGIN:VEVENT
DTSTART;TZID=America/Chicago:20260310T180000
DTEND;TZID=America/Chicago:20260310T200000
DTSTAMP:20260423T161311
CREATED:20260109T030208Z
LAST-MODIFIED:20260109T030208Z
UID:1754-1773165600-1773172800@yoshukaialliance.com
SUMMARY:Hombu Kyu Belt Testing.
DESCRIPTION:Testing – your Sensei will let you know if you are testing.
URL:http://yoshukaialliance.com/event/hombu-kyu-belt-testing-31/
LOCATION:Hombu\, 1500 N. McLean Suite A\, Lincoln\, IL\, 62656\, United States
CATEGORIES:All Ranks,Lincoln Members
END:VEVENT
BEGIN:VEVENT
DTSTART;TZID=America/Chicago:20260305T180000
DTEND;TZID=America/Chicago:20260305T200000
DTSTAMP:20260423T161311
CREATED:20260109T030203Z
LAST-MODIFIED:20260109T030203Z
UID:1753-1772733600-1772740800@yoshukaialliance.com
SUMMARY:Clinton Kyu Belt Testing
DESCRIPTION:Testing – your Sensei will let you know if you are testing.
URL:http://yoshukaialliance.com/event/clinton-kyu-belt-testing-20/
LOCATION:Clinton Dojo\, 600 West Side Square\, Clinton\, IL\, 61727\, United States
CATEGORIES:All Ranks,Clinton Members
END:VEVENT
BEGIN:VEVENT
DTSTART;TZID=America/Chicago:20260302T180000
DTEND;TZID=America/Chicago:20260302T200000
DTSTAMP:20260423T161311
CREATED:20260109T030200Z
LAST-MODIFIED:20260109T030200Z
UID:1752-1772474400-1772481600@yoshukaialliance.com
SUMMARY:Clinton Kyu Belt Testing
DESCRIPTION:Testing – your Sensei will let you know if you are testing.
URL:http://yoshukaialliance.com/event/clinton-kyu-belt-testing/
LOCATION:Clinton Dojo\, 600 West Side Square\, Clinton\, IL\, 61727\, United States
CATEGORIES:All Ranks,Clinton Members
END:VEVENT
BEGIN:VEVENT
DTSTART;TZID=America/Chicago:20260227T180000
DTEND;TZID=America/Chicago:20260227T200000
DTSTAMP:20260423T161311
CREATED:20260109T030158Z
LAST-MODIFIED:20260109T030158Z
UID:1751-1772215200-1772222400@yoshukaialliance.com
SUMMARY:Brown Belt Clinic
DESCRIPTION:Clinic for Brown Belts
URL:http://yoshukaialliance.com/event/brown-belt-clinic-5/
LOCATION:Hombu\, 1500 N. McLean Suite A\, Lincoln\, IL\, 62656\, United States
CATEGORIES:Black Belts,Brown Belts,Clinton Members,Lincoln Members
END:VEVENT
BEGIN:VEVENT
DTSTART;TZID=America/Chicago:20260205T180000
DTEND;TZID=America/Chicago:20260205T193000
DTSTAMP:20260423T161311
CREATED:20260109T030155Z
LAST-MODIFIED:20260109T030155Z
UID:1750-1770314400-1770319800@yoshukaialliance.com
SUMMARY:Board Breaking for all alliance students
DESCRIPTION:Bring 12x12x1 boards to break\, need all hands to help hold boards
URL:http://yoshukaialliance.com/event/board-breaking-for-all-alliance-students-38/
LOCATION:Hombu\, 1500 N. McLean Suite A\, Lincoln\, IL\, 62656\, United States
CATEGORIES:All Ranks,Clinton Members,Lincoln Members
END:VEVENT
BEGIN:VEVENT
DTSTART;TZID=America/Chicago:20260123T180000
DTEND;TZID=America/Chicago:20260123T200000
DTSTAMP:20260423T161311
CREATED:20260109T030151Z
LAST-MODIFIED:20260109T030151Z
UID:1749-1769191200-1769198400@yoshukaialliance.com
SUMMARY:Black Belt Testing
DESCRIPTION:Black Belt Testing – Event is for invited guests of those testing and Black Belts only
URL:http://yoshukaialliance.com/event/black-belt-testing-9/
LOCATION:Hombu\, 1500 N. McLean Suite A\, Lincoln\, IL\, 62656\, United States
CATEGORIES:Black Belts,Clinton Members,Lincoln Members
END:VEVENT
BEGIN:VEVENT
DTSTART;VALUE=DATE:20260106
DTEND;VALUE=DATE:20260107
DTSTAMP:20260423T161311
CREATED:20260119T014530Z
LAST-MODIFIED:20250423T012200Z
UID:1518-1767657600-1767743999@yoshukaialliance.com
SUMMARY:Hombu classes resume
DESCRIPTION:Regular Class Time
URL:http://yoshukaialliance.com/event/hombu-classes-resume-8/
LOCATION:Hombu\, 1500 N. McLean Suite A\, Lincoln\, IL\, 62656\, United States
CATEGORIES:All Ranks,Lincoln Members
END:VEVENT
BEGIN:VEVENT
DTSTART;VALUE=DATE:20260105
DTEND;VALUE=DATE:20260106
DTSTAMP:20260423T161311
CREATED:20260119T014529Z
LAST-MODIFIED:20250423T012231Z
UID:1517-1767571200-1767657599@yoshukaialliance.com
SUMMARY:Clinton classes resume
DESCRIPTION:Regular Class Time
URL:http://yoshukaialliance.com/event/clinton-classes-resume-8/
LOCATION:Clinton Dojo\, 600 West Side Square\, Clinton\, IL\, 61727\, United States
CATEGORIES:All Ranks,Clinton Members
END:VEVENT
BEGIN:VEVENT
DTSTART;VALUE=DATE:20260105
DTEND;VALUE=DATE:20260106
DTSTAMP:20260423T161311
CREATED:20260109T030632Z
LAST-MODIFIED:20260109T030632Z
UID:1788-1767571200-1767657599@yoshukaialliance.com
SUMMARY:Hombu classes resume
DESCRIPTION:Regular Class Time
URL:http://yoshukaialliance.com/event/hombu-classes-resume-9/
LOCATION:Hombu\, 1500 N. McLean Suite A\, Lincoln\, IL\, 62656\, United States
CATEGORIES:All Ranks,Lincoln Members
END:VEVENT
BEGIN:VEVENT
DTSTART;VALUE=DATE:20260104
DTEND;VALUE=DATE:20260105
DTSTAMP:20260423T161311
CREATED:20260109T030632Z
LAST-MODIFIED:20260109T030632Z
UID:1787-1767484800-1767571199@yoshukaialliance.com
SUMMARY:Clinton classes resume
DESCRIPTION:Regular Class Time
URL:http://yoshukaialliance.com/event/clinton-classes-resume-9/
LOCATION:Clinton Dojo\, 600 West Side Square\, Clinton\, IL\, 61727\, United States
CATEGORIES:All Ranks,Clinton Members
END:VEVENT
BEGIN:VEVENT
DTSTART;VALUE=DATE:20251218
DTEND;VALUE=DATE:20251219
DTSTAMP:20260423T161311
CREATED:20250119T014330Z
LAST-MODIFIED:20250120T024739Z
UID:1515-1766016000-1766102399@yoshukaialliance.com
SUMMARY:Last class for the year
DESCRIPTION:Regular Class Time resume Monday\, January 5th for Clinton and January 6th for Lincoln
URL:http://yoshukaialliance.com/event/last-class-for-the-year-9/
LOCATION:Hombu\, 1500 N. McLean Suite A\, Lincoln\, IL\, 62656\, United States
CATEGORIES:All Ranks,Clinton Members,Lincoln Members
END:VEVENT
BEGIN:VEVENT
DTSTART;TZID=America/Chicago:20251213T180000
DTEND;TZID=America/Chicago:20251213T193000
DTSTAMP:20260423T161311
CREATED:20250106T004049Z
LAST-MODIFIED:20250119T014329Z
UID:1484-1765648800-1765654200@yoshukaialliance.com
SUMMARY:Christmas Party\, Bring a dish to share.
DESCRIPTION:Bring a dish to share.
URL:http://yoshukaialliance.com/event/christmas-party-bring-a-dish-to-share-8/
LOCATION:Dugan Center\, 1500 N. McLean\, Lincoln\, IL\, 62656\, United States
CATEGORIES:All Ranks,Clinton Members,Lincoln Members
END:VEVENT
BEGIN:VEVENT
DTSTART;TZID=America/Chicago:20251212T180000
DTEND;TZID=America/Chicago:20251212T200000
DTSTAMP:20260423T161311
CREATED:20250119T014329Z
LAST-MODIFIED:20250119T014329Z
UID:1513-1765562400-1765569600@yoshukaialliance.com
SUMMARY:Tentative Black Belt Test
DESCRIPTION:Black Belt Testing
URL:http://yoshukaialliance.com/event/tentative-black-belt-test/
LOCATION:Hombu\, 1500 N. McLean Suite A\, Lincoln\, IL\, 62656\, United States
CATEGORIES:Black Belts,Clinton Members,Lincoln Members
END:VEVENT
BEGIN:VEVENT
DTSTART;TZID=America/Chicago:20251206T140000
DTEND;TZID=America/Chicago:20251206T150000
DTSTAMP:20260423T161311
CREATED:20250106T004047Z
LAST-MODIFIED:20250205T204955Z
UID:1483-1765029600-1765033200@yoshukaialliance.com
SUMMARY:Clinton Christmas Parade
DESCRIPTION:
URL:http://yoshukaialliance.com/event/clinton-christmas-parade-6/
LOCATION:Clinton Square\, Clinton\, IL\, 61727
CATEGORIES:All Ranks,Clinton Members,Lincoln Members
END:VEVENT
BEGIN:VEVENT
DTSTART;TZID=America/Chicago:20251204T180000
DTEND;TZID=America/Chicago:20251204T193000
DTSTAMP:20260423T161311
CREATED:20250205T204159Z
LAST-MODIFIED:20250205T204159Z
UID:1594-1764871200-1764876600@yoshukaialliance.com
SUMMARY:Board Breaking for all alliance students.
DESCRIPTION:Bring 12x12x1 boards to break\, need all hands to help hold boards
URL:http://yoshukaialliance.com/event/board-breaking-for-all-alliance-students-37/
LOCATION:Hombu\, 1500 N. McLean Suite A\, Lincoln\, IL\, 62656\, United States
CATEGORIES:All Ranks,Clinton Members,Lincoln Members
END:VEVENT
BEGIN:VEVENT
DTSTART;VALUE=DATE:20251127
DTEND;VALUE=DATE:20251128
DTSTAMP:20260423T161311
CREATED:20250119T014328Z
LAST-MODIFIED:20250119T014328Z
UID:1511-1764201600-1764287999@yoshukaialliance.com
SUMMARY:No Class - Happy Thanksgiving!
DESCRIPTION:
URL:http://yoshukaialliance.com/event/no-class-happy-thanksgiving/
LOCATION:Hombu\, 1500 N. McLean Suite A\, Lincoln\, IL\, 62656\, United States
CATEGORIES:All Ranks,Clinton Members,Lincoln Members
END:VEVENT
BEGIN:VEVENT
DTSTART;VALUE=DATE:20251127
DTEND;VALUE=DATE:20251128
DTSTAMP:20260423T161311
CREATED:20250119T014328Z
LAST-MODIFIED:20250119T014328Z
UID:1512-1764201600-1764287999@yoshukaialliance.com
SUMMARY:No Class - Happy Thanksgiving!
DESCRIPTION:
URL:http://yoshukaialliance.com/event/no-class-happy-thanksgiving-2/
LOCATION:Clinton Dojo\, 600 West Side Square\, Clinton\, IL\, 61727\, United States
CATEGORIES:All Ranks,Clinton Members,Lincoln Members
END:VEVENT
BEGIN:VEVENT
DTSTART;TZID=America/Chicago:20251113T180000
DTEND;TZID=America/Chicago:20251113T200000
DTSTAMP:20260423T161311
CREATED:20250119T014315Z
LAST-MODIFIED:20250119T014315Z
UID:1510-1763056800-1763064000@yoshukaialliance.com
SUMMARY:Hombu Kyu Belt Testing
DESCRIPTION:Testing – your Sensei will let you know if you are testing.
URL:http://yoshukaialliance.com/event/hombu-kyu-belt-testing-28/
LOCATION:Hombu\, 1500 N. McLean Suite A\, Lincoln\, IL\, 62656\, United States
CATEGORIES:All Ranks,Lincoln Members
END:VEVENT
BEGIN:VEVENT
DTSTART;TZID=America/Chicago:20251111T180000
DTEND;TZID=America/Chicago:20251111T200000
DTSTAMP:20260423T161311
CREATED:20250119T014314Z
LAST-MODIFIED:20250119T014314Z
UID:1509-1762884000-1762891200@yoshukaialliance.com
SUMMARY:Hombu Kyu Belt Testing
DESCRIPTION:Testing – your Sensei will let you know if you are testing.
URL:http://yoshukaialliance.com/event/hombu-kyu-belt-testing-27/
LOCATION:Hombu\, 1500 N. McLean Suite A\, Lincoln\, IL\, 62656\, United States
CATEGORIES:All Ranks,Lincoln Members
END:VEVENT
END:VCALENDAR