BEGIN:VCALENDAR
VERSION:2.0
PRODID:-//Yoshukai Karate Alliance - ECPv6.13.2.1//NONSGML v1.0//EN
CALSCALE:GREGORIAN
METHOD:PUBLISH
X-ORIGINAL-URL:http://yoshukaialliance.com
X-WR-CALDESC:Events for Yoshukai Karate Alliance
REFRESH-INTERVAL;VALUE=DURATION:PT1H
X-Robots-Tag:noindex
X-PUBLISHED-TTL:PT1H
BEGIN:VTIMEZONE
TZID:America/Chicago
BEGIN:DAYLIGHT
TZOFFSETFROM:-0600
TZOFFSETTO:-0500
TZNAME:CDT
DTSTART:20240310T080000
END:DAYLIGHT
BEGIN:STANDARD
TZOFFSETFROM:-0500
TZOFFSETTO:-0600
TZNAME:CST
DTSTART:20241103T070000
END:STANDARD
BEGIN:DAYLIGHT
TZOFFSETFROM:-0600
TZOFFSETTO:-0500
TZNAME:CDT
DTSTART:20250309T080000
END:DAYLIGHT
BEGIN:STANDARD
TZOFFSETFROM:-0500
TZOFFSETTO:-0600
TZNAME:CST
DTSTART:20251102T070000
END:STANDARD
END:VTIMEZONE
BEGIN:VEVENT
DTSTART;TZID=America/Chicago:20240801T180000
DTEND;TZID=America/Chicago:20240801T193000
DTSTAMP:20260424T112226
CREATED:20240126T172326Z
LAST-MODIFIED:20240126T172326Z
UID:1383-1722535200-1722540600@yoshukaialliance.com
SUMMARY:Board Breaking for all alliance students.
DESCRIPTION:Bring 12x12x1 boards to break\, need all hands to help hold boards
URL:http://yoshukaialliance.com/event/board-breaking-for-all-alliance-students-29/
LOCATION:Clinton Dojo\, 600 West Side Square\, Clinton\, IL\, 61727\, United States
CATEGORIES:All Ranks,Clinton Members,Lincoln Members
END:VEVENT
BEGIN:VEVENT
DTSTART;TZID=America/Chicago:20240815T180000
DTEND;TZID=America/Chicago:20240815T193000
DTSTAMP:20260424T112226
CREATED:20240126T172326Z
LAST-MODIFIED:20240126T172326Z
UID:1384-1723744800-1723750200@yoshukaialliance.com
SUMMARY:Street Clothes Night
DESCRIPTION:Self defense in old clothes that might get torn and soft sole shoes. This is for Clinton and Lincoln students.
URL:http://yoshukaialliance.com/event/street-clothes-night-2/
LOCATION:Hombu\, 1500 N. McLean Suite A\, Lincoln\, IL\, 62656\, United States
CATEGORIES:All Ranks,Clinton Members,Lincoln Members
END:VEVENT
BEGIN:VEVENT
DTSTART;TZID=America/Chicago:20240817T090000
DTEND;TZID=America/Chicago:20240817T110000
DTSTAMP:20260424T112226
CREATED:20240126T172340Z
LAST-MODIFIED:20240126T172340Z
UID:1385-1723885200-1723892400@yoshukaialliance.com
SUMMARY:Black Belt Clinic
DESCRIPTION:Clinic for Black Belts
URL:http://yoshukaialliance.com/event/black-belt-clinic-32/
LOCATION:Kiwanis Park\, 721 IL-54\, Clinton\, IL\, 61727
CATEGORIES:Black Belts,Clinton Members,Lincoln Members
END:VEVENT
BEGIN:VEVENT
DTSTART;TZID=America/Chicago:20240829T190000
DTEND;TZID=America/Chicago:20240829T194500
DTSTAMP:20260424T112226
CREATED:20221231T024944Z
LAST-MODIFIED:20240127T182221Z
UID:1260-1724958000-1724960700@yoshukaialliance.com
SUMMARY:Karate in the pool
DESCRIPTION:This is a tentative date\, more details as we get cloesr to the event
URL:http://yoshukaialliance.com/event/karate-in-the-pool-5/
LOCATION:Clinton YMCA\, 417 S Alexander St\, Clinton\, IL\, 61727\, United States
CATEGORIES:All Ranks,Clinton Members,Lincoln Members
END:VEVENT
BEGIN:VEVENT
DTSTART;TZID=America/Chicago:20240914T090000
DTEND;TZID=America/Chicago:20240914T110000
DTSTAMP:20260424T112226
CREATED:20240126T172340Z
LAST-MODIFIED:20240126T172340Z
UID:1386-1726304400-1726311600@yoshukaialliance.com
SUMMARY:Green Belt Clinic
DESCRIPTION:Clinic for Green Belts
URL:http://yoshukaialliance.com/event/green-belt-clinic-2/
LOCATION:Downey Park\, SE Park Street & W White St\, Clinton\, IL\, 61727\, United States
CATEGORIES:Black Belts,Clinton Members,Green Belts,Lincoln Members
END:VEVENT
BEGIN:VEVENT
DTSTART;TZID=America/Chicago:20240928T090000
DTEND;TZID=America/Chicago:20240928T110000
DTSTAMP:20260424T112226
CREATED:20240126T172340Z
LAST-MODIFIED:20240126T172340Z
UID:1387-1727514000-1727521200@yoshukaialliance.com
SUMMARY:Black Belt Clinic
DESCRIPTION:Clinic for Black Belts
URL:http://yoshukaialliance.com/event/black-belt-clinic-33/
LOCATION:Kiwanis Park\, 721 IL-54\, Clinton\, IL\, 61727
CATEGORIES:Black Belts,Clinton Members,Lincoln Members
END:VEVENT
BEGIN:VEVENT
DTSTART;TZID=America/Chicago:20241003T180000
DTEND;TZID=America/Chicago:20241003T193000
DTSTAMP:20260424T112226
CREATED:20240126T172341Z
LAST-MODIFIED:20240126T172341Z
UID:1388-1727978400-1727983800@yoshukaialliance.com
SUMMARY:Board Breaking for all alliance students.
DESCRIPTION:Bring 12x12x1 boards to break\, need all hands to help hold boards
URL:http://yoshukaialliance.com/event/board-breaking-for-all-alliance-students-30/
LOCATION:Hombu\, 1500 N. McLean Suite A\, Lincoln\, IL\, 62656\, United States
CATEGORIES:All Ranks,Clinton Members,Lincoln Members
END:VEVENT
BEGIN:VEVENT
DTSTART;TZID=America/Chicago:20241019T180000
DTEND;TZID=America/Chicago:20241019T200000
DTSTAMP:20260424T112226
CREATED:20240126T172341Z
LAST-MODIFIED:20240126T172341Z
UID:1389-1729360800-1729368000@yoshukaialliance.com
SUMMARY:Black Belt Clinic
DESCRIPTION:Clinic for Black Belts
URL:http://yoshukaialliance.com/event/black-belt-clinic-34/
LOCATION:Hombu\, 1500 N. McLean Suite A\, Lincoln\, IL\, 62656\, United States
CATEGORIES:Black Belts,Clinton Members,Lincoln Members
END:VEVENT
BEGIN:VEVENT
DTSTART;TZID=America/Chicago:20241104T180000
DTEND;TZID=America/Chicago:20241104T200000
DTSTAMP:20260424T112226
CREATED:20240126T172356Z
LAST-MODIFIED:20240126T172356Z
UID:1390-1730743200-1730750400@yoshukaialliance.com
SUMMARY:Clinton Kyu Belt Testing
DESCRIPTION:Testing – your Sensei will let you know if you are testing.
URL:http://yoshukaialliance.com/event/clinton-kyu-belt-testing-16/
LOCATION:Clinton Dojo\, 600 West Side Square\, Clinton\, IL\, 61727\, United States
CATEGORIES:All Ranks,Clinton Members
END:VEVENT
BEGIN:VEVENT
DTSTART;TZID=America/Chicago:20241112T180000
DTEND;TZID=America/Chicago:20241112T200000
DTSTAMP:20260424T112226
CREATED:20240126T172356Z
LAST-MODIFIED:20240126T172356Z
UID:1391-1731434400-1731441600@yoshukaialliance.com
SUMMARY:Hombu Kyu Belt Testing
DESCRIPTION:Testing – your Sensei will let you know if you are testing.
URL:http://yoshukaialliance.com/event/hombu-kyu-belt-testing-23/
LOCATION:Hombu\, 1500 N. McLean Suite A\, Lincoln\, IL\, 62656\, United States
CATEGORIES:All Ranks,Lincoln Members
END:VEVENT
BEGIN:VEVENT
DTSTART;TZID=America/Chicago:20241114T180000
DTEND;TZID=America/Chicago:20241114T200000
DTSTAMP:20260424T112226
CREATED:20240126T172356Z
LAST-MODIFIED:20240126T172356Z
UID:1392-1731607200-1731614400@yoshukaialliance.com
SUMMARY:Hombu Kyu Belt Testing
DESCRIPTION:Testing – your Sensei will let you know if you are testing.
URL:http://yoshukaialliance.com/event/hombu-kyu-belt-testing-24/
LOCATION:Hombu\, 1500 N. McLean Suite A\, Lincoln\, IL\, 62656\, United States
CATEGORIES:All Ranks,Lincoln Members
END:VEVENT
BEGIN:VEVENT
DTSTART;VALUE=DATE:20241128
DTEND;VALUE=DATE:20241129
DTSTAMP:20260424T112226
CREATED:20240126T172356Z
LAST-MODIFIED:20240126T172356Z
UID:1393-1732752000-1732838399@yoshukaialliance.com
SUMMARY:Clinton No Class - Happy Thanksgiving!
DESCRIPTION:
URL:http://yoshukaialliance.com/event/clinton-no-class-happy-thanksgiving/
LOCATION:Clinton Dojo\, 600 West Side Square\, Clinton\, IL\, 61727\, United States
CATEGORIES:All Ranks,Clinton Members
END:VEVENT
BEGIN:VEVENT
DTSTART;VALUE=DATE:20241128
DTEND;VALUE=DATE:20241129
DTSTAMP:20260424T112226
CREATED:20240126T172356Z
LAST-MODIFIED:20240126T172356Z
UID:1394-1732752000-1732838399@yoshukaialliance.com
SUMMARY:Hombu No Class - Happy Thanksgiving!
DESCRIPTION:
URL:http://yoshukaialliance.com/event/hombu-no-class-happy-thanksgiving-6/
LOCATION:Hombu\, 1500 N. McLean Suite A\, Lincoln\, IL\, 62656\, United States
CATEGORIES:All Ranks,Lincoln Members
END:VEVENT
BEGIN:VEVENT
DTSTART;TZID=America/Chicago:20241205T180000
DTEND;TZID=America/Chicago:20241205T193000
DTSTAMP:20260424T112226
CREATED:20240126T172434Z
LAST-MODIFIED:20240126T172434Z
UID:1395-1733421600-1733427000@yoshukaialliance.com
SUMMARY:Board Breaking for all alliance students.
DESCRIPTION:Bring 12x12x1 boards to break\, need all hands to help hold boards
URL:http://yoshukaialliance.com/event/board-breaking-for-all-alliance-students-31/
LOCATION:Hombu\, 1500 N. McLean Suite A\, Lincoln\, IL\, 62656\, United States
CATEGORIES:All Ranks,Clinton Members,Lincoln Members
END:VEVENT
BEGIN:VEVENT
DTSTART;TZID=America/Chicago:20241213T180000
DTEND;TZID=America/Chicago:20241213T200000
DTSTAMP:20260424T112226
CREATED:20240126T172434Z
LAST-MODIFIED:20240126T172434Z
UID:1396-1734112800-1734120000@yoshukaialliance.com
SUMMARY:Black Belt Testing
DESCRIPTION:Black Belt Testing – Event is for invited guests of those testing and Black Belts only
URL:http://yoshukaialliance.com/event/black-belt-testing-7/
LOCATION:Hombu\, 1500 N. McLean Suite A\, Lincoln\, IL\, 62656\, United States
CATEGORIES:Black Belts,Clinton Members,Lincoln Members
END:VEVENT
BEGIN:VEVENT
DTSTART;TZID=America/Chicago:20241214T180000
DTEND;TZID=America/Chicago:20241214T193000
DTSTAMP:20260424T112226
CREATED:20240126T172434Z
LAST-MODIFIED:20240126T184709Z
UID:1397-1734199200-1734204600@yoshukaialliance.com
SUMMARY:Christmas Party\, Bring a dish to share.
DESCRIPTION:Bring a dish to share.
URL:http://yoshukaialliance.com/event/christmas-party-bring-a-dish-to-share-7/
LOCATION:Dugan Center\, 1500 N. McLean\, Lincoln\, IL\, 62656\, United States
CATEGORIES:All Ranks,Clinton Members,Lincoln Members
END:VEVENT
BEGIN:VEVENT
DTSTART;VALUE=DATE:20241219
DTEND;VALUE=DATE:20241220
DTSTAMP:20260424T112226
CREATED:20240126T172434Z
LAST-MODIFIED:20240126T175200Z
UID:1398-1734566400-1734652799@yoshukaialliance.com
SUMMARY:Last class for the year
DESCRIPTION:Regular Class Time resume Monday\, January 6th for Clinton and Tuesday January 7th for Lincoln.
URL:http://yoshukaialliance.com/event/last-class-for-the-year-8/
LOCATION:Hombu\, 1500 N. McLean Suite A\, Lincoln\, IL\, 62656\, United States
CATEGORIES:All Ranks,Lincoln Members
END:VEVENT
BEGIN:VEVENT
DTSTART;VALUE=DATE:20250106
DTEND;VALUE=DATE:20250107
DTSTAMP:20260424T112226
CREATED:20240126T175529Z
LAST-MODIFIED:20240126T175529Z
UID:1407-1736121600-1736207999@yoshukaialliance.com
SUMMARY:Clinton classes resume
DESCRIPTION:Regular Class Time
URL:http://yoshukaialliance.com/event/clinton-classes-resume-7/
LOCATION:Clinton Dojo\, 600 West Side Square\, Clinton\, IL\, 61727\, United States
CATEGORIES:All Ranks,Clinton Members
END:VEVENT
BEGIN:VEVENT
DTSTART;VALUE=DATE:20250107
DTEND;VALUE=DATE:20250108
DTSTAMP:20260424T112226
CREATED:20240126T175529Z
LAST-MODIFIED:20240126T175529Z
UID:1408-1736208000-1736294399@yoshukaialliance.com
SUMMARY:Hombu classes resume
DESCRIPTION:Regular Class Time
URL:http://yoshukaialliance.com/event/hombu-classes-resume-7/
LOCATION:Hombu\, 1500 N. McLean Suite A\, Lincoln\, IL\, 62656\, United States
CATEGORIES:All Ranks,Lincoln Members
END:VEVENT
BEGIN:VEVENT
DTSTART;TZID=America/Chicago:20250117T180000
DTEND;TZID=America/Chicago:20250117T200000
DTSTAMP:20260424T112226
CREATED:20250106T004039Z
LAST-MODIFIED:20250119T014237Z
UID:1478-1737136800-1737144000@yoshukaialliance.com
SUMMARY:Brown Belt Clinic
DESCRIPTION:Clinic for Brown Belts
URL:http://yoshukaialliance.com/event/brown-belt-clinic-4/
LOCATION:Hombu\, 1500 N. McLean Suite A\, Lincoln\, IL\, 62656\, United States
CATEGORIES:Black Belts,Brown belts and above,Clinton Members,Lincoln Members
END:VEVENT
BEGIN:VEVENT
DTSTART;TZID=America/Chicago:20250206T180000
DTEND;TZID=America/Chicago:20250206T193000
DTSTAMP:20260424T112226
CREATED:20250119T014239Z
LAST-MODIFIED:20250205T161523Z
UID:1492-1738864800-1738870200@yoshukaialliance.com
SUMMARY:Board Breaking for all alliance students
DESCRIPTION:Bring 12x12x1 boards to break\, need all hands to help hold boards
URL:http://yoshukaialliance.com/event/board-breaking-for-all-alliance-students-32/
LOCATION:Hombu\, 1500 N. McLean Suite A\, Lincoln\, IL\, 62656\, United States
CATEGORIES:All Ranks,Clinton Members,Lincoln Members
END:VEVENT
BEGIN:VEVENT
DTSTART;TZID=America/Chicago:20250306T180000
DTEND;TZID=America/Chicago:20250306T200000
DTSTAMP:20260424T112226
CREATED:20250119T014240Z
LAST-MODIFIED:20250119T014240Z
UID:1494-1741284000-1741291200@yoshukaialliance.com
SUMMARY:Clinton Kyu Belt Testing
DESCRIPTION:Testing – your Sensei will let you know if you are testing.
URL:http://yoshukaialliance.com/event/clinton-kyu-belt-testing-17/
LOCATION:Clinton Dojo\, 600 West Side Square\, Clinton\, IL\, 61727\, United States
CATEGORIES:All Ranks,Clinton Members
END:VEVENT
BEGIN:VEVENT
DTSTART;TZID=America/Chicago:20250308T080000
DTEND;TZID=America/Chicago:20250308T160000
DTSTAMP:20260424T112226
CREATED:20250119T014241Z
LAST-MODIFIED:20250205T164709Z
UID:1495-1741420800-1741449600@yoshukaialliance.com
SUMMARY:US YOSHUKAI KARATE 26TH ANNUAL TOURNAMENT
DESCRIPTION:Please let your Sensei know if you plan on making the trip to Kentucky! \nRequire Mouthpiece\, Groin protector\, Headgear\, and soft foam pads.  \nRegistration Form
URL:http://yoshukaialliance.com/event/us-yoshukai-karate-26th-annual-tournament/
LOCATION:East Jessamine Middle School\, 901 Union Mill Road\, Nicholasville\, KY\, 40356\, United States
CATEGORIES:All Ranks,Clinton Members,Lincoln Members
ORGANIZER;CN="US Yoshukai Karate":MAILTO:shinji@usyoshukai.com
END:VEVENT
BEGIN:VEVENT
DTSTART;TZID=America/Chicago:20250311T180000
DTEND;TZID=America/Chicago:20250311T200000
DTSTAMP:20260424T112226
CREATED:20250119T014242Z
LAST-MODIFIED:20250119T014242Z
UID:1496-1741716000-1741723200@yoshukaialliance.com
SUMMARY:Hombu Kyu Belt Testing.
DESCRIPTION:Testing – your Sensei will let you know if you are testing.
URL:http://yoshukaialliance.com/event/hombu-kyu-belt-testing-25/
LOCATION:Hombu\, 1500 N. McLean Suite A\, Lincoln\, IL\, 62656\, United States
CATEGORIES:All Ranks,Lincoln Members
END:VEVENT
BEGIN:VEVENT
DTSTART;TZID=America/Chicago:20250313T180000
DTEND;TZID=America/Chicago:20250313T200000
DTSTAMP:20260424T112226
CREATED:20250119T014243Z
LAST-MODIFIED:20250119T014243Z
UID:1497-1741888800-1741896000@yoshukaialliance.com
SUMMARY:Hombu Kyu Belt Testing.
DESCRIPTION:Testing – your Sensei will let you know if you are testing.
URL:http://yoshukaialliance.com/event/hombu-kyu-belt-testing-26/
LOCATION:Hombu\, 1500 N. McLean Suite A\, Lincoln\, IL\, 62656\, United States
CATEGORIES:All Ranks,Lincoln Members
END:VEVENT
BEGIN:VEVENT
DTSTART;TZID=America/Chicago:20250403T180000
DTEND;TZID=America/Chicago:20250403T193000
DTSTAMP:20260424T112226
CREATED:20250119T014244Z
LAST-MODIFIED:20250119T014244Z
UID:1498-1743703200-1743708600@yoshukaialliance.com
SUMMARY:Board Breaking for all alliance students.
DESCRIPTION:Bring 12x12x1 boards to break\, need all hands to help hold boards
URL:http://yoshukaialliance.com/event/board-breaking-for-all-alliance-students-33/
LOCATION:Clinton Dojo\, 600 West Side Square\, Clinton\, IL\, 61727\, United States
CATEGORIES:All Ranks,Clinton Members,Lincoln Members
END:VEVENT
BEGIN:VEVENT
DTSTART;TZID=America/Chicago:20250425T180000
DTEND;TZID=America/Chicago:20250425T193000
DTSTAMP:20260424T112226
CREATED:20250119T014245Z
LAST-MODIFIED:20250422T172746Z
UID:1499-1745604000-1745609400@yoshukaialliance.com
SUMMARY:Green Belt Clinic
DESCRIPTION:Clinic for Green Belts
URL:http://yoshukaialliance.com/event/green-belt-clinic-3/
LOCATION:Hombu\, 1500 N. McLean Suite A\, Lincoln\, IL\, 62656\, United States
CATEGORIES:Clinton Members,Green Belts,Lincoln Members
END:VEVENT
BEGIN:VEVENT
DTSTART;TZID=America/Chicago:20250517T054500
DTEND;TZID=America/Chicago:20250517T064500
DTSTAMP:20260424T112226
CREATED:20250119T014245Z
LAST-MODIFIED:20250506T194942Z
UID:1500-1747460700-1747464300@yoshukaialliance.com
SUMMARY:All Ranks Clinic SUNRISE
DESCRIPTION:Clinic for ALL Belts – Note there are no facilities at this location\, plan appropriately
URL:http://yoshukaialliance.com/event/all-ranks-clinic/
LOCATION:Postville Park\, 1300 5th St.\, Lincoln\, IL\, 62656
CATEGORIES:All Ranks,Clinton Members,Lincoln Members
END:VEVENT
BEGIN:VEVENT
DTSTART;TZID=America/Chicago:20250605T180000
DTEND;TZID=America/Chicago:20250605T193000
DTSTAMP:20260424T112226
CREATED:20250119T014258Z
LAST-MODIFIED:20250119T014258Z
UID:1501-1749146400-1749151800@yoshukaialliance.com
SUMMARY:Board Breaking for all alliance students.
DESCRIPTION:Bring 12x12x1 boards to break\, need all hands to help hold boards
URL:http://yoshukaialliance.com/event/board-breaking-for-all-alliance-students-34/
LOCATION:Clinton Dojo\, 600 West Side Square\, Clinton\, IL\, 61727\, United States
CATEGORIES:All Ranks,Clinton Members,Lincoln Members
END:VEVENT
BEGIN:VEVENT
DTSTART;TZID=America/Chicago:20250620T180000
DTEND;TZID=America/Chicago:20250620T200000
DTSTAMP:20260424T112226
CREATED:20250119T014259Z
LAST-MODIFIED:20250119T014259Z
UID:1502-1750442400-1750449600@yoshukaialliance.com
SUMMARY:Black Belt Testing
DESCRIPTION:Black Belt Testing – Event is for invited guests of those testing and Black Belts only
URL:http://yoshukaialliance.com/event/black-belt-testing-8/
LOCATION:Hombu\, 1500 N. McLean Suite A\, Lincoln\, IL\, 62656\, United States
CATEGORIES:Black Belts,Clinton Members,Lincoln Members
END:VEVENT
END:VCALENDAR