BEGIN:VCALENDAR
VERSION:2.0
PRODID:-//Yoshukai Karate Alliance - ECPv6.13.2.1//NONSGML v1.0//EN
CALSCALE:GREGORIAN
METHOD:PUBLISH
X-WR-CALNAME:Yoshukai Karate Alliance
X-ORIGINAL-URL:http://yoshukaialliance.com
X-WR-CALDESC:Events for Yoshukai Karate Alliance
REFRESH-INTERVAL;VALUE=DURATION:PT1H
X-Robots-Tag:noindex
X-PUBLISHED-TTL:PT1H
BEGIN:VTIMEZONE
TZID:America/Chicago
BEGIN:DAYLIGHT
TZOFFSETFROM:-0600
TZOFFSETTO:-0500
TZNAME:CDT
DTSTART:20240310T080000
END:DAYLIGHT
BEGIN:STANDARD
TZOFFSETFROM:-0500
TZOFFSETTO:-0600
TZNAME:CST
DTSTART:20241103T070000
END:STANDARD
END:VTIMEZONE
BEGIN:VEVENT
DTSTART;TZID=America/Chicago:20241104T180000
DTEND;TZID=America/Chicago:20241104T200000
DTSTAMP:20260424T061839
CREATED:20240126T172356Z
LAST-MODIFIED:20240126T172356Z
UID:1390-1730743200-1730750400@yoshukaialliance.com
SUMMARY:Clinton Kyu Belt Testing
DESCRIPTION:Testing – your Sensei will let you know if you are testing.
URL:http://yoshukaialliance.com/event/clinton-kyu-belt-testing-16/
LOCATION:Clinton Dojo\, 600 West Side Square\, Clinton\, IL\, 61727\, United States
CATEGORIES:All Ranks,Clinton Members
END:VEVENT
BEGIN:VEVENT
DTSTART;TZID=America/Chicago:20241112T180000
DTEND;TZID=America/Chicago:20241112T200000
DTSTAMP:20260424T061839
CREATED:20240126T172356Z
LAST-MODIFIED:20240126T172356Z
UID:1391-1731434400-1731441600@yoshukaialliance.com
SUMMARY:Hombu Kyu Belt Testing
DESCRIPTION:Testing – your Sensei will let you know if you are testing.
URL:http://yoshukaialliance.com/event/hombu-kyu-belt-testing-23/
LOCATION:Hombu\, 1500 N. McLean Suite A\, Lincoln\, IL\, 62656\, United States
CATEGORIES:All Ranks,Lincoln Members
END:VEVENT
BEGIN:VEVENT
DTSTART;TZID=America/Chicago:20241114T180000
DTEND;TZID=America/Chicago:20241114T200000
DTSTAMP:20260424T061839
CREATED:20240126T172356Z
LAST-MODIFIED:20240126T172356Z
UID:1392-1731607200-1731614400@yoshukaialliance.com
SUMMARY:Hombu Kyu Belt Testing
DESCRIPTION:Testing – your Sensei will let you know if you are testing.
URL:http://yoshukaialliance.com/event/hombu-kyu-belt-testing-24/
LOCATION:Hombu\, 1500 N. McLean Suite A\, Lincoln\, IL\, 62656\, United States
CATEGORIES:All Ranks,Lincoln Members
END:VEVENT
BEGIN:VEVENT
DTSTART;VALUE=DATE:20241128
DTEND;VALUE=DATE:20241129
DTSTAMP:20260424T061839
CREATED:20240126T172356Z
LAST-MODIFIED:20240126T172356Z
UID:1393-1732752000-1732838399@yoshukaialliance.com
SUMMARY:Clinton No Class - Happy Thanksgiving!
DESCRIPTION:
URL:http://yoshukaialliance.com/event/clinton-no-class-happy-thanksgiving/
LOCATION:Clinton Dojo\, 600 West Side Square\, Clinton\, IL\, 61727\, United States
CATEGORIES:All Ranks,Clinton Members
END:VEVENT
BEGIN:VEVENT
DTSTART;VALUE=DATE:20241128
DTEND;VALUE=DATE:20241129
DTSTAMP:20260424T061839
CREATED:20240126T172356Z
LAST-MODIFIED:20240126T172356Z
UID:1394-1732752000-1732838399@yoshukaialliance.com
SUMMARY:Hombu No Class - Happy Thanksgiving!
DESCRIPTION:
URL:http://yoshukaialliance.com/event/hombu-no-class-happy-thanksgiving-6/
LOCATION:Hombu\, 1500 N. McLean Suite A\, Lincoln\, IL\, 62656\, United States
CATEGORIES:All Ranks,Lincoln Members
END:VEVENT
END:VCALENDAR