BEGIN:VCALENDAR
VERSION:2.0
PRODID:-//Yoshukai Karate Alliance - ECPv6.13.2.1//NONSGML v1.0//EN
CALSCALE:GREGORIAN
METHOD:PUBLISH
X-ORIGINAL-URL:http://yoshukaialliance.com
X-WR-CALDESC:Events for Yoshukai Karate Alliance
REFRESH-INTERVAL;VALUE=DURATION:PT1H
X-Robots-Tag:noindex
X-PUBLISHED-TTL:PT1H
BEGIN:VTIMEZONE
TZID:America/Chicago
BEGIN:DAYLIGHT
TZOFFSETFROM:-0600
TZOFFSETTO:-0500
TZNAME:CDT
DTSTART:20250309T080000
END:DAYLIGHT
BEGIN:STANDARD
TZOFFSETFROM:-0500
TZOFFSETTO:-0600
TZNAME:CST
DTSTART:20251102T070000
END:STANDARD
END:VTIMEZONE
BEGIN:VEVENT
DTSTART;TZID=America/Chicago:20251204T180000
DTEND;TZID=America/Chicago:20251204T193000
DTSTAMP:20260423T144807
CREATED:20250205T204159Z
LAST-MODIFIED:20250205T204159Z
UID:1594-1764871200-1764876600@yoshukaialliance.com
SUMMARY:Board Breaking for all alliance students.
DESCRIPTION:Bring 12x12x1 boards to break\, need all hands to help hold boards
URL:http://yoshukaialliance.com/event/board-breaking-for-all-alliance-students-37/
LOCATION:Hombu\, 1500 N. McLean Suite A\, Lincoln\, IL\, 62656\, United States
CATEGORIES:All Ranks,Clinton Members,Lincoln Members
END:VEVENT
BEGIN:VEVENT
DTSTART;TZID=America/Chicago:20251206T140000
DTEND;TZID=America/Chicago:20251206T150000
DTSTAMP:20260423T144807
CREATED:20250106T004047Z
LAST-MODIFIED:20250205T204955Z
UID:1483-1765029600-1765033200@yoshukaialliance.com
SUMMARY:Clinton Christmas Parade
DESCRIPTION:
URL:http://yoshukaialliance.com/event/clinton-christmas-parade-6/
LOCATION:Clinton Square\, Clinton\, IL\, 61727
CATEGORIES:All Ranks,Clinton Members,Lincoln Members
END:VEVENT
BEGIN:VEVENT
DTSTART;TZID=America/Chicago:20251212T180000
DTEND;TZID=America/Chicago:20251212T200000
DTSTAMP:20260423T144807
CREATED:20250119T014329Z
LAST-MODIFIED:20250119T014329Z
UID:1513-1765562400-1765569600@yoshukaialliance.com
SUMMARY:Tentative Black Belt Test
DESCRIPTION:Black Belt Testing
URL:http://yoshukaialliance.com/event/tentative-black-belt-test/
LOCATION:Hombu\, 1500 N. McLean Suite A\, Lincoln\, IL\, 62656\, United States
CATEGORIES:Black Belts,Clinton Members,Lincoln Members
END:VEVENT
BEGIN:VEVENT
DTSTART;TZID=America/Chicago:20251213T180000
DTEND;TZID=America/Chicago:20251213T193000
DTSTAMP:20260423T144807
CREATED:20250106T004049Z
LAST-MODIFIED:20250119T014329Z
UID:1484-1765648800-1765654200@yoshukaialliance.com
SUMMARY:Christmas Party\, Bring a dish to share.
DESCRIPTION:Bring a dish to share.
URL:http://yoshukaialliance.com/event/christmas-party-bring-a-dish-to-share-8/
LOCATION:Dugan Center\, 1500 N. McLean\, Lincoln\, IL\, 62656\, United States
CATEGORIES:All Ranks,Clinton Members,Lincoln Members
END:VEVENT
BEGIN:VEVENT
DTSTART;VALUE=DATE:20251218
DTEND;VALUE=DATE:20251219
DTSTAMP:20260423T144807
CREATED:20250119T014330Z
LAST-MODIFIED:20250120T024739Z
UID:1515-1766016000-1766102399@yoshukaialliance.com
SUMMARY:Last class for the year
DESCRIPTION:Regular Class Time resume Monday\, January 5th for Clinton and January 6th for Lincoln
URL:http://yoshukaialliance.com/event/last-class-for-the-year-9/
LOCATION:Hombu\, 1500 N. McLean Suite A\, Lincoln\, IL\, 62656\, United States
CATEGORIES:All Ranks,Clinton Members,Lincoln Members
END:VEVENT
END:VCALENDAR