BEGIN:VCALENDAR
VERSION:2.0
PRODID:-//Yoshukai Karate Alliance - ECPv6.13.2.1//NONSGML v1.0//EN
CALSCALE:GREGORIAN
METHOD:PUBLISH
X-ORIGINAL-URL:http://yoshukaialliance.com
X-WR-CALDESC:Events for Yoshukai Karate Alliance
REFRESH-INTERVAL;VALUE=DURATION:PT1H
X-Robots-Tag:noindex
X-PUBLISHED-TTL:PT1H
BEGIN:VTIMEZONE
TZID:America/Chicago
BEGIN:DAYLIGHT
TZOFFSETFROM:-0600
TZOFFSETTO:-0500
TZNAME:CDT
DTSTART:20260308T080000
END:DAYLIGHT
BEGIN:STANDARD
TZOFFSETFROM:-0500
TZOFFSETTO:-0600
TZNAME:CST
DTSTART:20261101T070000
END:STANDARD
END:VTIMEZONE
BEGIN:VEVENT
DTSTART;TZID=America/Chicago:20260706T180000
DTEND;TZID=America/Chicago:20260706T200000
DTSTAMP:20260423T134010
CREATED:20260109T030316Z
LAST-MODIFIED:20260109T030316Z
UID:1767-1783360800-1783368000@yoshukaialliance.com
SUMMARY:Clinton Kyu Belt Testing
DESCRIPTION:Testing – your Sensei will let you know if you are testing.
URL:http://yoshukaialliance.com/event/clinton-kyu-belt-testing-21/
LOCATION:Clinton Dojo\, 600 West Side Square\, Clinton\, IL\, 61727\, United States
CATEGORIES:All Ranks,Clinton Members
END:VEVENT
BEGIN:VEVENT
DTSTART;TZID=America/Chicago:20260709T180000
DTEND;TZID=America/Chicago:20260709T200000
DTSTAMP:20260423T134010
CREATED:20260109T030318Z
LAST-MODIFIED:20260109T030318Z
UID:1768-1783620000-1783627200@yoshukaialliance.com
SUMMARY:Clinton Kyu Belt Testing
DESCRIPTION:Testing – your Sensei will let you know if you are testing.
URL:http://yoshukaialliance.com/event/clinton-kyu-belt-testing-22/
LOCATION:Clinton Dojo\, 600 West Side Square\, Clinton\, IL\, 61727\, United States
CATEGORIES:All Ranks,Clinton Members
END:VEVENT
BEGIN:VEVENT
DTSTART;TZID=America/Chicago:20260714T180000
DTEND;TZID=America/Chicago:20260714T200000
DTSTAMP:20260423T134010
CREATED:20260109T030508Z
LAST-MODIFIED:20260109T030508Z
UID:1769-1784052000-1784059200@yoshukaialliance.com
SUMMARY:Hombu Kyu Belt Testing
DESCRIPTION:Testing – your Sensei will let you know if you are testing.
URL:http://yoshukaialliance.com/event/hombu-kyu-belt-testing-33/
LOCATION:Hombu\, 1500 N. McLean Suite A\, Lincoln\, IL\, 62656\, United States
CATEGORIES:All Ranks,Lincoln Members
END:VEVENT
BEGIN:VEVENT
DTSTART;TZID=America/Chicago:20260716T180000
DTEND;TZID=America/Chicago:20260716T200000
DTSTAMP:20260423T134010
CREATED:20260109T030512Z
LAST-MODIFIED:20260109T030512Z
UID:1770-1784224800-1784232000@yoshukaialliance.com
SUMMARY:Hombu Kyu Belt Testing
DESCRIPTION:Testing – your Sensei will let you know if you are testing.
URL:http://yoshukaialliance.com/event/hombu-kyu-belt-testing-34/
LOCATION:Hombu\, 1500 N. McLean Suite A\, Lincoln\, IL\, 62656\, United States
CATEGORIES:All Ranks,Lincoln Members
END:VEVENT
END:VCALENDAR