BEGIN:VCALENDAR
VERSION:2.0
PRODID:-//Yoshukai Karate Alliance - ECPv6.13.2.1//NONSGML v1.0//EN
CALSCALE:GREGORIAN
METHOD:PUBLISH
X-ORIGINAL-URL:http://yoshukaialliance.com
X-WR-CALDESC:Events for Yoshukai Karate Alliance
REFRESH-INTERVAL;VALUE=DURATION:PT1H
X-Robots-Tag:noindex
X-PUBLISHED-TTL:PT1H
BEGIN:VTIMEZONE
TZID:America/Chicago
BEGIN:DAYLIGHT
TZOFFSETFROM:-0600
TZOFFSETTO:-0500
TZNAME:CDT
DTSTART:20260308T080000
END:DAYLIGHT
BEGIN:STANDARD
TZOFFSETFROM:-0500
TZOFFSETTO:-0600
TZNAME:CST
DTSTART:20261101T070000
END:STANDARD
END:VTIMEZONE
BEGIN:VEVENT
DTSTART;TZID=America/Chicago:20260806T180000
DTEND;TZID=America/Chicago:20260806T193000
DTSTAMP:20260423T145047
CREATED:20260109T030516Z
LAST-MODIFIED:20260109T030516Z
UID:1771-1786039200-1786044600@yoshukaialliance.com
SUMMARY:Board Breaking for all alliance students.
DESCRIPTION:Bring 12x12x1 boards to break\, need all hands to help hold boards
URL:http://yoshukaialliance.com/event/board-breaking-for-all-alliance-students-41/
LOCATION:Clinton Dojo\, 600 West Side Square\, Clinton\, IL\, 61727\, United States
CATEGORIES:All Ranks,Clinton Members,Lincoln Members
END:VEVENT
BEGIN:VEVENT
DTSTART;TZID=America/Chicago:20260827T190000
DTEND;TZID=America/Chicago:20260827T194500
DTSTAMP:20260423T145047
CREATED:20260315T205243Z
LAST-MODIFIED:20260315T205243Z
UID:1803-1787857200-1787859900@yoshukaialliance.com
SUMMARY:Karate in the pool
DESCRIPTION:This is a tentative date\, more details as we get closer to the event
URL:http://yoshukaialliance.com/event/karate-in-the-pool-7/
LOCATION:Clinton YMCA\, 417 S Alexander St\, Clinton\, IL\, 61727\, United States
CATEGORIES:All Ranks,Clinton Members,Lincoln Members
END:VEVENT
END:VCALENDAR