BEGIN:VCALENDAR
VERSION:2.0
PRODID:-//Yoshukai Karate Alliance - ECPv6.13.2.1//NONSGML v1.0//EN
CALSCALE:GREGORIAN
METHOD:PUBLISH
X-ORIGINAL-URL:https://yoshukaialliance.com
X-WR-CALDESC:Events for Yoshukai Karate Alliance
REFRESH-INTERVAL;VALUE=DURATION:PT1H
X-Robots-Tag:noindex
X-PUBLISHED-TTL:PT1H
BEGIN:VTIMEZONE
TZID:America/Chicago
BEGIN:DAYLIGHT
TZOFFSETFROM:-0600
TZOFFSETTO:-0500
TZNAME:CDT
DTSTART:20250309T080000
END:DAYLIGHT
BEGIN:STANDARD
TZOFFSETFROM:-0500
TZOFFSETTO:-0600
TZNAME:CST
DTSTART:20251102T070000
END:STANDARD
END:VTIMEZONE
BEGIN:VEVENT
DTSTART;TZID=America/Chicago:20250707T180000
DTEND;TZID=America/Chicago:20250707T200000
DTSTAMP:20260423T215301
CREATED:20250205T204155Z
LAST-MODIFIED:20250205T204155Z
UID:1588-1751911200-1751918400@yoshukaialliance.com
SUMMARY:Clinton Kyu Belt Testing
DESCRIPTION:Testing – your Sensei will let you know if you are testing.
URL:https://yoshukaialliance.com/event/clinton-kyu-belt-testing-19/
LOCATION:Clinton Dojo\, 600 West Side Square\, Clinton\, IL\, 61727\, United States
CATEGORIES:All Ranks,Clinton Members
END:VEVENT
BEGIN:VEVENT
DTSTART;TZID=America/Chicago:20250724T180000
DTEND;TZID=America/Chicago:20250724T193000
DTSTAMP:20260423T215301
CREATED:20250205T204156Z
LAST-MODIFIED:20250205T204156Z
UID:1591-1753380000-1753385400@yoshukaialliance.com
SUMMARY:All Ranks Clinic
DESCRIPTION:Clinic for ALL Belts – Note there are no facilities at this location\, plan appropriately
URL:https://yoshukaialliance.com/event/all-ranks-clinic-2/
LOCATION:Kiwanis Park\, 721 IL-54\, Clinton\, IL\, 61727
CATEGORIES:All Ranks,Clinton Members,Lincoln Members
END:VEVENT
END:VCALENDAR