BEGIN:VCALENDAR
VERSION:2.0
PRODID:-//Yoshukai Karate Alliance - ECPv6.13.2.1//NONSGML v1.0//EN
CALSCALE:GREGORIAN
METHOD:PUBLISH
X-WR-CALNAME:Yoshukai Karate Alliance
X-ORIGINAL-URL:https://yoshukaialliance.com
X-WR-CALDESC:Events for Yoshukai Karate Alliance
REFRESH-INTERVAL;VALUE=DURATION:PT1H
X-Robots-Tag:noindex
X-PUBLISHED-TTL:PT1H
BEGIN:VTIMEZONE
TZID:America/Chicago
BEGIN:DAYLIGHT
TZOFFSETFROM:-0600
TZOFFSETTO:-0500
TZNAME:CDT
DTSTART:20250309T080000
END:DAYLIGHT
BEGIN:STANDARD
TZOFFSETFROM:-0500
TZOFFSETTO:-0600
TZNAME:CST
DTSTART:20251102T070000
END:STANDARD
END:VTIMEZONE
BEGIN:VEVENT
DTSTART;TZID=America/Chicago:20251002T180000
DTEND;TZID=America/Chicago:20251002T193000
DTSTAMP:20260423T182516
CREATED:20250119T014313Z
LAST-MODIFIED:20250119T014313Z
UID:1507-1759428000-1759433400@yoshukaialliance.com
SUMMARY:Board Breaking for all alliance students.
DESCRIPTION:Bring 12x12x1 boards to break\, need all hands to help hold boards
URL:https://yoshukaialliance.com/event/board-breaking-for-all-alliance-students-35/
LOCATION:Hombu\, 1500 N. McLean Suite A\, Lincoln\, IL\, 62656\, United States
CATEGORIES:All Ranks,Clinton Members,Lincoln Members
END:VEVENT
END:VCALENDAR