BEGIN:VCALENDAR
VERSION:2.0
PRODID:-//Yoshukai Karate Alliance - ECPv6.13.2.1//NONSGML v1.0//EN
CALSCALE:GREGORIAN
METHOD:PUBLISH
X-ORIGINAL-URL:https://yoshukaialliance.com
X-WR-CALDESC:Events for Yoshukai Karate Alliance
REFRESH-INTERVAL;VALUE=DURATION:PT1H
X-Robots-Tag:noindex
X-PUBLISHED-TTL:PT1H
BEGIN:VTIMEZONE
TZID:America/Chicago
BEGIN:DAYLIGHT
TZOFFSETFROM:-0600
TZOFFSETTO:-0500
TZNAME:CDT
DTSTART:20260308T080000
END:DAYLIGHT
BEGIN:STANDARD
TZOFFSETFROM:-0500
TZOFFSETTO:-0600
TZNAME:CST
DTSTART:20261101T070000
END:STANDARD
END:VTIMEZONE
BEGIN:VEVENT
DTSTART;TZID=America/Chicago:20261102T180000
DTEND;TZID=America/Chicago:20261102T200000
DTSTAMP:20260423T190706
CREATED:20260109T030540Z
LAST-MODIFIED:20260109T030540Z
UID:1775-1793642400-1793649600@yoshukaialliance.com
SUMMARY:Clinton Kyu Belt Testing
DESCRIPTION:Testing – your Sensei will let you know if you are testing.
URL:https://yoshukaialliance.com/event/clinton-kyu-belt-testing-23/
LOCATION:Clinton Dojo\, 600 West Side Square\, Clinton\, IL\, 61727\, United States
CATEGORIES:All Ranks,Clinton Members
END:VEVENT
BEGIN:VEVENT
DTSTART;TZID=America/Chicago:20261105T180000
DTEND;TZID=America/Chicago:20261105T200000
DTSTAMP:20260423T190706
CREATED:20260109T030543Z
LAST-MODIFIED:20260109T030543Z
UID:1776-1793901600-1793908800@yoshukaialliance.com
SUMMARY:Clinton Kyu Belt Testing
DESCRIPTION:Testing – your Sensei will let you know if you are testing.
URL:https://yoshukaialliance.com/event/clinton-kyu-belt-testing-24/
LOCATION:Clinton Dojo\, 600 West Side Square\, Clinton\, IL\, 61727\, United States
CATEGORIES:All Ranks,Clinton Members
END:VEVENT
BEGIN:VEVENT
DTSTART;VALUE=DATE:20261126
DTEND;VALUE=DATE:20261127
DTSTAMP:20260423T190706
CREATED:20260109T030558Z
LAST-MODIFIED:20260109T030558Z
UID:1779-1795651200-1795737599@yoshukaialliance.com
SUMMARY:Clinton No Class - Happy Thanksgiving!
DESCRIPTION:
URL:https://yoshukaialliance.com/event/clinton-no-class-happy-thanksgiving-2/
LOCATION:Clinton Dojo\, 600 West Side Square\, Clinton\, IL\, 61727\, United States
CATEGORIES:All Ranks,Clinton Members
END:VEVENT
END:VCALENDAR